BEGIN:VCALENDAR
VERSION:2.0
PRODID:-//Adhara centar - ECPv6.15.11//NONSGML v1.0//EN
CALSCALE:GREGORIAN
METHOD:PUBLISH
X-WR-CALNAME:Adhara centar
X-ORIGINAL-URL:https://adhara.hr
X-WR-CALDESC:Događaji za Adhara centar
REFRESH-INTERVAL;VALUE=DURATION:PT1H
X-Robots-Tag:noindex
X-PUBLISHED-TTL:PT1H
BEGIN:VTIMEZONE
TZID:Europe/Zagreb
BEGIN:DAYLIGHT
TZOFFSETFROM:+0100
TZOFFSETTO:+0200
TZNAME:CEST
DTSTART:20250330T010000
END:DAYLIGHT
BEGIN:STANDARD
TZOFFSETFROM:+0200
TZOFFSETTO:+0100
TZNAME:CET
DTSTART:20251026T010000
END:STANDARD
BEGIN:DAYLIGHT
TZOFFSETFROM:+0100
TZOFFSETTO:+0200
TZNAME:CEST
DTSTART:20260329T010000
END:DAYLIGHT
BEGIN:STANDARD
TZOFFSETFROM:+0200
TZOFFSETTO:+0100
TZNAME:CET
DTSTART:20261025T010000
END:STANDARD
BEGIN:DAYLIGHT
TZOFFSETFROM:+0100
TZOFFSETTO:+0200
TZNAME:CEST
DTSTART:20270328T010000
END:DAYLIGHT
BEGIN:STANDARD
TZOFFSETFROM:+0200
TZOFFSETTO:+0100
TZNAME:CET
DTSTART:20271031T010000
END:STANDARD
END:VTIMEZONE
BEGIN:VEVENT
DTSTART;VALUE=DATE:20260409
DTEND;VALUE=DATE:20260430
DTSTAMP:20260423T014731
CREATED:20260215T214440Z
LAST-MODIFIED:20260215T215235Z
UID:8570-1775692800-1777507199@adhara.hr
SUMMARY:9.4. – 29.4. – TROTJEDNI DETOX INTENZIV (ONLINE PROGRAM)
DESCRIPTION:📅 9.4. – 29.4. – TROTJEDNI DETOX INTENZIV (ONLINE PROGRAM)\n💻 Online \nVođeni 3-tjedni ayurvedsko-nutricionistički detox program iz vlastitog doma. \nUključuje: \njutarnju detox yogu (snimka) \nvečernju stress free yogu uživo \ntjednu edukaciju o detox prehrani \nradionice Nidre \n2 radionice kuhanja \nCjeloviti reset tijela\, probave i živčanog sustava kroz strukturirani program. \n\nPročitaj više
URL:https://adhara.hr/aktivnost/trotjedni-detox-intenziv-online-program/
CATEGORIES:Veliki Proljetni Detox Ciklus
ATTACH;FMTTYPE=image/jpeg:https://adhara.hr/web/wp-content/uploads/2026/02/Trotjedni-detox-intenziv.jpg
END:VEVENT
BEGIN:VEVENT
DTSTART;TZID=Europe/Zagreb:20260423T180000
DTEND;TZID=Europe/Zagreb:20260423T210000
DTSTAMP:20260423T014731
CREATED:20260215T212623Z
LAST-MODIFIED:20260215T212841Z
UID:8562-1776967200-1776978000@adhara.hr
SUMMARY:NIDRA ISCJELJENJA I TRANSFORMACIJE (3/3)
DESCRIPTION:📅 23.4. – NIDRA ISCJELJENJA I TRANSFORMACIJE (3/3)\nŽenstvenost i intuicija\n🕕 18:00 – 21:00💻 Online \nZavršni susret ciklusa.Povezivanje s unutarnjom mudrošću\, intuicijom i osobnom snagom.Duboka regeneracija i integracija procesa. \n					\n									Pročitaj više
URL:https://adhara.hr/aktivnost/nidra-iscjeljenja-i-transformacije-3/
LOCATION:Adhara centar\, Antunovac 27\, Zagreb
CATEGORIES:Nidra Yoga,Veliki Proljetni Detox Ciklus
ATTACH;FMTTYPE=image/jpeg:https://adhara.hr/web/wp-content/uploads/2025/09/Nidra-iscjeljenja-i-transformacije.jpg
END:VEVENT
END:VCALENDAR