BEGIN:VCALENDAR
VERSION:2.0
PRODID:-//Adhara centar - ECPv6.15.11//NONSGML v1.0//EN
CALSCALE:GREGORIAN
METHOD:PUBLISH
X-WR-CALNAME:Adhara centar
X-ORIGINAL-URL:https://adhara.hr
X-WR-CALDESC:Događaji za Adhara centar
REFRESH-INTERVAL;VALUE=DURATION:PT1H
X-Robots-Tag:noindex
X-PUBLISHED-TTL:PT1H
BEGIN:VTIMEZONE
TZID:Europe/Zagreb
BEGIN:DAYLIGHT
TZOFFSETFROM:+0100
TZOFFSETTO:+0200
TZNAME:CEST
DTSTART:20230326T010000
END:DAYLIGHT
BEGIN:STANDARD
TZOFFSETFROM:+0200
TZOFFSETTO:+0100
TZNAME:CET
DTSTART:20231029T010000
END:STANDARD
BEGIN:DAYLIGHT
TZOFFSETFROM:+0100
TZOFFSETTO:+0200
TZNAME:CEST
DTSTART:20240331T010000
END:DAYLIGHT
BEGIN:STANDARD
TZOFFSETFROM:+0200
TZOFFSETTO:+0100
TZNAME:CET
DTSTART:20241027T010000
END:STANDARD
BEGIN:DAYLIGHT
TZOFFSETFROM:+0100
TZOFFSETTO:+0200
TZNAME:CEST
DTSTART:20250330T010000
END:DAYLIGHT
BEGIN:STANDARD
TZOFFSETFROM:+0200
TZOFFSETTO:+0100
TZNAME:CET
DTSTART:20251026T010000
END:STANDARD
END:VTIMEZONE
BEGIN:VEVENT
DTSTART;TZID=Europe/Zagreb:20241030T200000
DTEND;TZID=Europe/Zagreb:20241030T214500
DTSTAMP:20260422T160442
CREATED:20240618T102749Z
LAST-MODIFIED:20241027T151540Z
UID:6952-1730318400-1730324700@adhara.hr
SUMMARY:RESET – Ciklus Radionica uz Yoga Nidru 🌿
DESCRIPTION:Dragi naši!\nPozivamo vas na ciklus od 6 radionica osmišljenih kako bismo se posvetili važnim životnim temama kroz tehniku Yoga Nidre – moćnog alata za duboku relaksaciju\, introspekciju i osobnu transformaciju. \n \n🗓 Termini i teme radionica:\n📍 9.10. – Obilje\n📍 16.10. – Materijalno obilje\n📍 30.10. – Odnosi\n📍 13.11. – Partnerski odnos\n📍 27.11. – Muška i ženska energija u nama\n📍 11.12. – Seksualnost \nSvaka radionica sastoji se od uvodnog predavanja i introspekcije na odabranu temu\, kako bismo lakše oblikovali svoju namjeru (sankalpu) za Yoga Nidru. \n🔸 Što je Yoga Nidra?\nYoga Nidra ili yogijsko spavanje je tehnika duboke relaksacije koja nam pomaže da opustimo svaku stanicu tijela\, umirimo um i otpustimo stres. Ključni dio Yoga Nidre je namjera – ona može biti odluka vezana uz promjenu negativnih uvjerenja ili ostvarenje nekog cilja povezanog s temom radionice. U stanju duboke relaksacije\, naša se odluka utiskuje u podsvijest\, poput sjemena\, i s lakoćom donosi vidljive rezultate. \n💰 Cijena \npojedinačne radionica 30E\npaket od tri radionice 75 E (umjesto 90E)\npaket od svih 6 radionica 120E (umjesto 180E)\n📍 Lokacija: Adhara centar\, Antunovac 27 \n👉 Rezervirajte svoje mjesto: [link za prijavu] \n– broj mjesta je ograničen
URL:https://adhara.hr/aktivnost/reset-ciklus-radionica-uz-yoga-nidru-%f0%9f%8c%bf/
LOCATION:Adhara centar\, Antunovac 27\, Zagreb
CATEGORIES:Kalendar aktivnosti,Nidra Yoga
ATTACH;FMTTYPE=image/jpeg:https://adhara.hr/web/wp-content/uploads/2022/04/nidra.jpg
END:VEVENT
BEGIN:VEVENT
DTSTART;TZID=Europe/Zagreb:20241030T200000
DTEND;TZID=Europe/Zagreb:20241030T214500
DTSTAMP:20260422T160442
CREATED:20241027T123226Z
LAST-MODIFIED:20241027T123226Z
UID:7039-1730318400-1730324700@adhara.hr
SUMMARY:Radionica Nidra Yoge: "Odnosi" 30.10.
DESCRIPTION:
URL:https://adhara.hr/aktivnost/radionica-nidra-yoge-odnosi-30-10/
LOCATION:Adhara centar\, Antunovac 27\, Zagreb
CATEGORIES:Kalendar aktivnosti,Nidra Yoga
END:VEVENT
END:VCALENDAR