BEGIN:VCALENDAR
VERSION:2.0
PRODID:-//Adhara centar - ECPv6.15.11//NONSGML v1.0//EN
CALSCALE:GREGORIAN
METHOD:PUBLISH
X-ORIGINAL-URL:https://adhara.hr
X-WR-CALDESC:Događaji za Adhara centar
REFRESH-INTERVAL;VALUE=DURATION:PT1H
X-Robots-Tag:noindex
X-PUBLISHED-TTL:PT1H
BEGIN:VTIMEZONE
TZID:Europe/Zagreb
BEGIN:DAYLIGHT
TZOFFSETFROM:+0100
TZOFFSETTO:+0200
TZNAME:CEST
DTSTART:20230326T010000
END:DAYLIGHT
BEGIN:STANDARD
TZOFFSETFROM:+0200
TZOFFSETTO:+0100
TZNAME:CET
DTSTART:20231029T010000
END:STANDARD
BEGIN:DAYLIGHT
TZOFFSETFROM:+0100
TZOFFSETTO:+0200
TZNAME:CEST
DTSTART:20240331T010000
END:DAYLIGHT
BEGIN:STANDARD
TZOFFSETFROM:+0200
TZOFFSETTO:+0100
TZNAME:CET
DTSTART:20241027T010000
END:STANDARD
BEGIN:DAYLIGHT
TZOFFSETFROM:+0100
TZOFFSETTO:+0200
TZNAME:CEST
DTSTART:20250330T010000
END:DAYLIGHT
BEGIN:STANDARD
TZOFFSETFROM:+0200
TZOFFSETTO:+0100
TZNAME:CET
DTSTART:20251026T010000
END:STANDARD
END:VTIMEZONE
BEGIN:VEVENT
DTSTART;TZID=Europe/Zagreb:20241219T190000
DTEND;TZID=Europe/Zagreb:20241219T200000
DTSTAMP:20260422T132759
CREATED:20241216T183043Z
LAST-MODIFIED:20241217T144352Z
UID:7114-1734634800-1734638400@adhara.hr
SUMMARY:OTKAZANO Besplatna Yoga Nidra
DESCRIPTION:Dragi naši\, \n  \nŽao nam je što moramo otkazati najavljenu besplatnu on-line Yoga Nidru koja se trebala održati u četvrtak\, 19.12. \nNo\, ne brinite! Planiramo ovaj događaj organizirati u nekom drugom terminu i o svemu ćemo vas pravovremeno obavijestiti. \nNaš cilj ostaje isti – pružiti vam priliku za opuštanje\, osvježenje i postavljanje afirmacija za uspješnu novu godinu. \nHvala vam na razumijevanju i strpljenju! Pratite naše kanale za nove datume i informacije. \nVidimo se uskoro! 💚 \n\n \n\nNaš poklon za vas – uđite osvježeni u novu godinu\n📅 Četvrtak\, 19.12. | 19:00 – 20:00 h\n🌐 Online – za sve naše prijatelje! \nDragi svi\, pridružite nam se na sat vremena potpune relaksacije i pripreme za novu godinu! 🎉 Uz vođenu praksu Yoga Nidre\, imat ćete priliku postaviti svoju afirmaciju za 2025. – bilo da želite više ljubavi\, uspjeha\, novih avantura ili samo malo mira i sreće. 😊 \n🧘‍♀️ Vode vas: Iva i Irena \n📌 Nije potrebna prijava\, samo se pridružite u navedeno vrijeme pomoću Zoom Linka: \nhttps://us02web.zoom.us/j/85820095717 \nPozovite slobodno i svoje prijatelje\, svi su dobrodošli! Vidimo se! 💛
URL:https://adhara.hr/aktivnost/besplatna-yoga-nidra/
LOCATION:Adhara centar\, Antunovac 27\, Zagreb
CATEGORIES:Kalendar aktivnosti
ATTACH;FMTTYPE=image/jpeg:https://adhara.hr/web/wp-content/uploads/2017/03/yoga-nidra.jpg
END:VEVENT
END:VCALENDAR