BEGIN:VCALENDAR
VERSION:2.0
PRODID:-//Adhara centar - ECPv6.15.11//NONSGML v1.0//EN
CALSCALE:GREGORIAN
METHOD:PUBLISH
X-WR-CALNAME:Adhara centar
X-ORIGINAL-URL:https://adhara.hr
X-WR-CALDESC:Događaji za Adhara centar
REFRESH-INTERVAL;VALUE=DURATION:PT1H
X-Robots-Tag:noindex
X-PUBLISHED-TTL:PT1H
BEGIN:VTIMEZONE
TZID:Europe/Zagreb
BEGIN:DAYLIGHT
TZOFFSETFROM:+0100
TZOFFSETTO:+0200
TZNAME:CEST
DTSTART:20240331T010000
END:DAYLIGHT
BEGIN:STANDARD
TZOFFSETFROM:+0200
TZOFFSETTO:+0100
TZNAME:CET
DTSTART:20241027T010000
END:STANDARD
BEGIN:DAYLIGHT
TZOFFSETFROM:+0100
TZOFFSETTO:+0200
TZNAME:CEST
DTSTART:20250330T010000
END:DAYLIGHT
BEGIN:STANDARD
TZOFFSETFROM:+0200
TZOFFSETTO:+0100
TZNAME:CET
DTSTART:20251026T010000
END:STANDARD
BEGIN:DAYLIGHT
TZOFFSETFROM:+0100
TZOFFSETTO:+0200
TZNAME:CEST
DTSTART:20260329T010000
END:DAYLIGHT
BEGIN:STANDARD
TZOFFSETFROM:+0200
TZOFFSETTO:+0100
TZNAME:CET
DTSTART:20261025T010000
END:STANDARD
END:VTIMEZONE
BEGIN:VEVENT
DTSTART;TZID=Europe/Zagreb:20250321T180000
DTEND;TZID=Europe/Zagreb:20250321T203000
DTSTAMP:20260420T080311
CREATED:20250211T123926Z
LAST-MODIFIED:20250312T100921Z
UID:7148-1742580000-1742589000@adhara.hr
SUMMARY:Veliki Proljetni Detox – Besplatni Seminar
DESCRIPTION:📅 Petak\, 21. ožujka \n🕕 18:00 – 20:30 \n📍 Online & uživo \n💚 Ulaz slobodan – otvoreni seminar! \nU sustavu ayurvede svaki čovjek tretira se kao cjeloviti dio prirode\, koja zajedno sa njim prolazi kroz cikluse; godišnje\, dnevne i životne. \nPoštujući te ritmove u sebi usklađujemo se sa prirodom oko nas koja nas onda podržava da živimo svoju puninu i stvaramo harmoniju u tijelu i umu. \nUpoznaj se sa drevnim metodama detoksikacije\, godišnjim ritmovima prirode i organizma i našeg uma\, sa praksama yoge i tehnika disanja koje pomažu u tom procesu\, nauči kako prehranom i ljekovitim biljem možemo podržati detoksikaciju organizma u proljeće. \n  \n🌿 Što ćeš naučiti?\n✅ Drevne metode detoksikacije\n✅ Kako prirodni ciklusi utječu na tijelo i um\n✅ Praktične tehnike yoge i disanja za čišćenje organizma\n✅ Prehrana i ljekovito bilje za proljetni detox \n🔗 Prijavi se na vrijeme i osjeti snagu prirodne ravnoteže! \n 
URL:https://adhara.hr/aktivnost/veliki-proljetni-detox-besplatni-seminar/
LOCATION:Adhara centar\, Antunovac 27\, Zagreb
CATEGORIES:Kalendar aktivnosti,Veliki Proljetni Detox Ciklus
ATTACH;FMTTYPE=image/jpeg:https://adhara.hr/web/wp-content/uploads/2025/02/Free-Class-–-kopija.jpg
END:VEVENT
BEGIN:VEVENT
DTSTART;TZID=Europe/Zagreb:20250324T080000
DTEND;TZID=Europe/Zagreb:20250410T170000
DTSTAMP:20260420T080311
CREATED:20250211T142613Z
LAST-MODIFIED:20250217T103041Z
UID:7156-1742803200-1744304400@adhara.hr
SUMMARY:Trotjedni detox intenziv – iz vlastitog doma
DESCRIPTION:Nastavi s vođenim detox planom\, jutarnjom yogom\, večernjom stress free yogom iz vlastitog doma\nvođena online yoga u stvarnom vremenu\,\nvođeni 3. tjedni detox plan od strane nutricionistice i ayurvedske savjetnice mr.sc. Irene Švenda\npročitaj više – link
URL:https://adhara.hr/aktivnost/trotjedni-detox-intenziv-iz-vlastitog-doma/
LOCATION:Adhara centar\, Antunovac 27\, Zagreb
CATEGORIES:Kalendar aktivnosti,Veliki Proljetni Detox Ciklus
ATTACH;FMTTYPE=image/jpeg:https://adhara.hr/web/wp-content/uploads/2024/05/3-tjedni-detox-intenziv.jpg
END:VEVENT
BEGIN:VEVENT
DTSTART;TZID=Europe/Zagreb:20250328T180000
DTEND;TZID=Europe/Zagreb:20250330T150000
DTSTAMP:20260420T080311
CREATED:20250211T130017Z
LAST-MODIFIED:20250214T100711Z
UID:7150-1743184800-1743346800@adhara.hr
SUMMARY:Zeleni Detox Retreat 28. - 30. 03.
DESCRIPTION:Pridružite nam se na trodnevnom Zelenom Detox Retreatu u Adhara Centru  \nod 28. do 30. ožujka 2025! \n  \n🥤 Detoksikacija uz zelene sokove: Uživajte u svježim napitcima koji pomažu u čišćenju organizma. \n🌬️ Tehnike disanja: Naučite vježbe disanja za opuštanje i obnovu energije. \n🧘‍♀️ Detox yoga: Prakticirajte asane koje potiču detoksikaciju tijela. \n🌀 EFT tehnika: Oslobodite se unutarnjih blokada kroz Emotional Freedom Techniques. \n😌 Nidra yoga: Iskusite duboku relaksaciju i mentalno pročišćenje. \n👥 Sjajno društvo: Povežite se s istomišljenicima u podržavajućem okruženju. \nRaspored: \nPetak: 🕕 18:00 – 21:00 \nSubota: 🕙 10:00 – 15:00 \nNedjelja: 🕙 10:00 – 15:00 \nCijena: 370 eura \n\nSaznaj više – link
URL:https://adhara.hr/aktivnost/zeleni-detox-retreat-28-30-03/
LOCATION:Adhara centar\, Antunovac 27\, Zagreb
CATEGORIES:Kalendar aktivnosti,Veliki Proljetni Detox Ciklus
ATTACH;FMTTYPE=image/jpeg:https://adhara.hr/web/wp-content/uploads/2018/01/DANI-VITKE.jpg
END:VEVENT
END:VCALENDAR