BEGIN:VCALENDAR
VERSION:2.0
PRODID:-//Adhara centar - ECPv6.15.11//NONSGML v1.0//EN
CALSCALE:GREGORIAN
METHOD:PUBLISH
X-WR-CALNAME:Adhara centar
X-ORIGINAL-URL:https://adhara.hr
X-WR-CALDESC:Događaji za Adhara centar
REFRESH-INTERVAL;VALUE=DURATION:PT1H
X-Robots-Tag:noindex
X-PUBLISHED-TTL:PT1H
BEGIN:VTIMEZONE
TZID:Europe/Zagreb
BEGIN:DAYLIGHT
TZOFFSETFROM:+0100
TZOFFSETTO:+0200
TZNAME:CEST
DTSTART:20230326T010000
END:DAYLIGHT
BEGIN:STANDARD
TZOFFSETFROM:+0200
TZOFFSETTO:+0100
TZNAME:CET
DTSTART:20231029T010000
END:STANDARD
BEGIN:DAYLIGHT
TZOFFSETFROM:+0100
TZOFFSETTO:+0200
TZNAME:CEST
DTSTART:20240331T010000
END:DAYLIGHT
BEGIN:STANDARD
TZOFFSETFROM:+0200
TZOFFSETTO:+0100
TZNAME:CET
DTSTART:20241027T010000
END:STANDARD
BEGIN:DAYLIGHT
TZOFFSETFROM:+0100
TZOFFSETTO:+0200
TZNAME:CEST
DTSTART:20250330T010000
END:DAYLIGHT
BEGIN:STANDARD
TZOFFSETFROM:+0200
TZOFFSETTO:+0100
TZNAME:CET
DTSTART:20251026T010000
END:STANDARD
END:VTIMEZONE
BEGIN:VEVENT
DTSTART;TZID=Europe/Zagreb:20240319T180000
DTEND;TZID=Europe/Zagreb:20240319T200000
DTSTAMP:20260423T033353
CREATED:20240312T000357Z
LAST-MODIFIED:20240314T001510Z
UID:6603-1710871200-1710878400@adhara.hr
SUMMARY:Radionica kuhanja: Proljetni detox i mineralizacija
DESCRIPTION:S proljećem dolazi vrijeme za osvježenje i detoksikaciju tijela. Priroda se budi oko nas\, a isto tako i u nama. Uz pomoć načela Ayurvede i nutricionizma\, ova radionica će vam pružiti alate kako podržati prirodni proces čišćenja organizma od nakupljenih toksina i poboljšati opće stanje zdravlja.\nNaša radionica će se fokusirati na pripremu jela od juha\, napitaka pa sve do proljetnih složenaca koji će potaknuti detoksikaciju organizma. Saznat ćete kako odabrati sastojke koji su najbolji za vaš tip tijela prema ayurvedskim principima te kako ih kombinirati kako bi dobili najbolje rezultate za proljetno čišćenje.\n\nRadujemo se što ćemo s vama podijeliti ove vrijedne informacije i recepte za zdravlje i vitalnost.\nViše informacija o Adharinoj školi kuhanja možete naći na linku \nBirate online ili uživo.\nNa radionicama se pripremaju drugačija jela od prethodne godine\, bez obzira ako neka nosi isti naziv.\nOnline – po želji kuhate paralelno s nama i napravite obroke za taj ili sljedeći dan\nUživo – pripremate hranu s nama i kušate jela\nCijena: Pojedinačna cijena radionice je 55\,00 EUR\nPaketi:\n3 radionice kuhanja = 155\,00 EUR\, umjesto 165\,00 EUR\n6 radionica kuhanja = 300\,00 EUR\, umjesto 330\,00 EUR\n9 radionica kuhanja = 405\,00 EUR\, umjesto 495\,00 EUR\n13 radionica kuhanja = 490\,00 EUR\, umjesto 715\,00 EUR\nONLINE popust 15%
URL:https://adhara.hr/aktivnost/radionica-kuhanja-proljetni-detox-i-mineralizacija/
LOCATION:Adhara centar\, Antunovac 27\, Zagreb
CATEGORIES:Kalendar aktivnosti
ATTACH;FMTTYPE=image/jpeg:https://adhara.hr/web/wp-content/uploads/2024/03/radionica-kuhanja-proljetni-detox.jpg
END:VEVENT
END:VCALENDAR